BEGIN:VCALENDAR
VERSION:2.0
PRODID:-//https://android.hcc.nl///NONSGML kigkonsult.se iCalcreator 2.10.15//
METHOD:PUBLISH
BEGIN:VEVENT
UID:20260424T112302CEST-8752NnGOwa@https://android.hcc.nl/
DTSTAMP:20260424T092302Z
DESCRIPTION:Let op: in verband met dodenherdenking houden wij om 20.00 uur 
 2 minuten stilte.\n \nOnze inloop is bedoeld voor iedereen die praktische 
 hulp en ondersteuning nodig heeft bij het gebruik van digitale apparatuur\
 , zoals desktop\, laptop\, tablet en smartphone.\nTe denken valt aan:\n- u
 pdates downloaden- apps installeren- accounts aanmaken op uw apparaten (br
 eng dan wel uw gegevens mee)- e-mail problemen- instellingen aanpassen\nOn
 ze deskundigen zitten klaar om u met raad en daad terzijde te staan. https
 ://android.hcc.nl/rss-events/evenement/225-inloop-digitale-hulp
DTSTART:20260504T173000Z
DTEND:20260504T200000Z
LOCATION:Huis van de wijk Oostgaarde (De Linie 5b\, 2905 AX Capelle aan den
  IJssel)
SUMMARY:Inloop Digitale Hulp
URL:https://android.hcc.nl/rss-events/evenement/225-inloop-digitale-hulp
END:VEVENT
END:VCALENDAR
